BEGIN:VCALENDAR
VERSION:2.0
PRODID:-//Ardent Concepts - ECPv6.15.18//NONSGML v1.0//EN
CALSCALE:GREGORIAN
METHOD:PUBLISH
X-ORIGINAL-URL:https://ardentconcepts.com
X-WR-CALDESC:Events for Ardent Concepts
REFRESH-INTERVAL;VALUE=DURATION:PT1H
X-Robots-Tag:noindex
X-PUBLISHED-TTL:PT1H
BEGIN:VTIMEZONE
TZID:America/New_York
BEGIN:DAYLIGHT
TZOFFSETFROM:-0500
TZOFFSETTO:-0400
TZNAME:EDT
DTSTART:20250309T070000
END:DAYLIGHT
BEGIN:STANDARD
TZOFFSETFROM:-0400
TZOFFSETTO:-0500
TZNAME:EST
DTSTART:20251102T060000
END:STANDARD
BEGIN:DAYLIGHT
TZOFFSETFROM:-0500
TZOFFSETTO:-0400
TZNAME:EDT
DTSTART:20260308T070000
END:DAYLIGHT
BEGIN:STANDARD
TZOFFSETFROM:-0400
TZOFFSETTO:-0500
TZNAME:EST
DTSTART:20261101T060000
END:STANDARD
BEGIN:DAYLIGHT
TZOFFSETFROM:-0500
TZOFFSETTO:-0400
TZNAME:EDT
DTSTART:20270314T070000
END:DAYLIGHT
BEGIN:STANDARD
TZOFFSETFROM:-0400
TZOFFSETTO:-0500
TZNAME:EST
DTSTART:20271107T060000
END:STANDARD
END:VTIMEZONE
BEGIN:VEVENT
DTSTART;TZID=America/New_York:20261210T110000
DTEND;TZID=America/New_York:20261210T113000
DTSTAMP:20260421T191215
CREATED:20251216T172135Z
LAST-MODIFIED:20251216T172135Z
UID:10000714-1796900400-1796902200@ardentconcepts.com
SUMMARY:Introduction to TR Multicoax Series Webinar
DESCRIPTION:Join us for a free 30 minute introduction to our TR Multicoax Series where you will learn the key features and benefits of the highest density\, high speed\, multicoax connector on the market! \nKey Takeaways from this Webinar: \n• Learn about the benefits of high speed high density connectors that come in a variety of form factors\n• Solderless compression mount technology allows these connectors to be reused across multiple programs and boards promoting exponential cost savings\n• Superior signal integrity offered through 20 GHz\, 40 GHz\, and 70 GHz configurations to suit your bandwidth requirements
URL:https://ardentconcepts.com/event/introduction-to-tr-multicoax-series-webinar-3/2026-12-10/
LOCATION:Webinar
ATTACH;FMTTYPE=image/jpeg:https://ardentconcepts.com/wp-content/webpc-passthru.php?src=https://ardentconcepts.com/wp-content/uploads/2025/01/TR70-16x2-12-1.jpg&amp;nocache=1
END:VEVENT
BEGIN:VEVENT
DTSTART;TZID=America/New_York:20261217T110000
DTEND;TZID=America/New_York:20261217T113000
DTSTAMP:20260421T191215
CREATED:20251216T172618Z
LAST-MODIFIED:20251216T172751Z
UID:10000739-1797505200-1797507000@ardentconcepts.com
SUMMARY:Introduction to SK Series Sockets Webinar
DESCRIPTION:Join us for a free 30 minute introduction to Ardent Concepts’ SK Family of Sockets. This webinar will cover some of the most important benefits of using Ardent Concepts’ unique SK Family of test socket solutions when designing and developing next generation electronics. \nWho should attend:\nEngineers looking to characterize and test high speed RF and digital transmission lines with the industry-leading performance of the Ardent SK Socket series solutions. \nPreface:\nEngineers involved in the design\, testing\, and manufacturing of high speed devices are generally focused on sockets that offer high performance at a reasonable cost. Learn how Ardent’s patented solderless contact technology\, which utilizes industry-leading alloys\, makes for a cost-effective and electrically robust socket solution! \nKey Benefits:\nBy attending the webinar you will: \n• Learn how our industry-leading\, high-performance contact technology delivers superior signal integrity and allows for the rapid testing of multiple integrated circuits using a single socket\n• See how easy it is to install\, remove\, and reuse our sockets across multiple programs thanks to our solderless\, compression mount technology\n• Learn about how our sockets can save you time and money throughout the design and test process
URL:https://ardentconcepts.com/event/introduction-to-sk-series-sockets-webinar-3/2026-12-17/
LOCATION:Webinar
ATTACH;FMTTYPE=image/png:https://ardentconcepts.com/wp-content/webpc-passthru.php?src=https://ardentconcepts.com/wp-content/uploads/2025/12/SK-Series.png&amp;nocache=1
END:VEVENT
END:VCALENDAR