BEGIN:VCALENDAR
VERSION:2.0
PRODID:-//Ardent Concepts - ECPv6.15.18//NONSGML v1.0//EN
CALSCALE:GREGORIAN
METHOD:PUBLISH
X-ORIGINAL-URL:https://ardentconcepts.com
X-WR-CALDESC:Events for Ardent Concepts
REFRESH-INTERVAL;VALUE=DURATION:PT1H
X-Robots-Tag:noindex
X-PUBLISHED-TTL:PT1H
BEGIN:VTIMEZONE
TZID:America/New_York
BEGIN:DAYLIGHT
TZOFFSETFROM:-0500
TZOFFSETTO:-0400
TZNAME:EDT
DTSTART:20220313T070000
END:DAYLIGHT
BEGIN:STANDARD
TZOFFSETFROM:-0400
TZOFFSETTO:-0500
TZNAME:EST
DTSTART:20221106T060000
END:STANDARD
BEGIN:DAYLIGHT
TZOFFSETFROM:-0500
TZOFFSETTO:-0400
TZNAME:EDT
DTSTART:20230312T070000
END:DAYLIGHT
BEGIN:STANDARD
TZOFFSETFROM:-0400
TZOFFSETTO:-0500
TZNAME:EST
DTSTART:20231105T060000
END:STANDARD
BEGIN:DAYLIGHT
TZOFFSETFROM:-0500
TZOFFSETTO:-0400
TZNAME:EDT
DTSTART:20240310T070000
END:DAYLIGHT
BEGIN:STANDARD
TZOFFSETFROM:-0400
TZOFFSETTO:-0500
TZNAME:EST
DTSTART:20241103T060000
END:STANDARD
BEGIN:DAYLIGHT
TZOFFSETFROM:-0500
TZOFFSETTO:-0400
TZNAME:EDT
DTSTART:20250309T070000
END:DAYLIGHT
BEGIN:STANDARD
TZOFFSETFROM:-0400
TZOFFSETTO:-0500
TZNAME:EST
DTSTART:20251102T060000
END:STANDARD
END:VTIMEZONE
BEGIN:VEVENT
DTSTART;TZID=America/New_York:20240104T110000
DTEND;TZID=America/New_York:20240104T113000
DTSTAMP:20260421T213930
CREATED:20231026T192102Z
LAST-MODIFIED:20231113T180855Z
UID:10000164-1704366000-1704367800@ardentconcepts.com
SUMMARY:Introduction to TR Multicoax Series Webinar
DESCRIPTION:Join us for a free 30 minute introduction to our TR Multicoax Series where you will learn the key features and benefits of the highest density\, high speed\, multicoax connector on the market! \nKey Takeaways from this Webinar: \n\nLearn about the benefits of high speed high density connectors that come in a variety of form factors.\nSolderless compression mount technology allows these connectors to be reused across multiple programs and boards promoting exponential cost savings.\nSuperior signal integrity offered through 20 GHz\, 40 GHz\, and 70 GHz configurations to suit your bandwidth requirements.
URL:https://ardentconcepts.com/event/introduction-to-tr-multicoax-series-webinar/2024-01-04/
LOCATION:Webinar
END:VEVENT
BEGIN:VEVENT
DTSTART;TZID=America/New_York:20231221T130000
DTEND;TZID=America/New_York:20231221T133000
DTSTAMP:20260421T213930
CREATED:20231218T151807Z
LAST-MODIFIED:20231218T151807Z
UID:10000295-1703163600-1703165400@ardentconcepts.com
SUMMARY:Connected Cold: Mastering Cryogenic Challenges with Advanced Thermal Compensation in Ganged RF Coaxial Cable Assemblies
DESCRIPTION:Key Takeaways \n1. Quantum-Ready Stability:\n– TR Cryo (TRC) ensures stable signal integrity in quantum systems at near absolute zero\, with its innovative design. \n2. Thermal Contraction Innovation:\n– TRC addresses thermal contraction without compromising performance\, proving reliable connections in extreme cryogenic conditions. \n3. Dependable Quantum Scaling:\n– TRC plays a vital role in the quantum industry’s evolution\, providing dependable connections for scaling systems with increased qubit counts and RF lines demand.
URL:https://ardentconcepts.com/event/connected-cold-mastering-cryogenic-challenges-with-advanced-thermal-compensation-in-ganged-rf-coaxial-cable-assemblies/
LOCATION:Webinar
END:VEVENT
BEGIN:VEVENT
DTSTART;TZID=America/New_York:20231221T110000
DTEND;TZID=America/New_York:20231221T113000
DTSTAMP:20260421T213930
CREATED:20231026T192102Z
LAST-MODIFIED:20231113T180855Z
UID:10000163-1703156400-1703158200@ardentconcepts.com
SUMMARY:Introduction to TR Multicoax Series Webinar
DESCRIPTION:Join us for a free 30 minute introduction to our TR Multicoax Series where you will learn the key features and benefits of the highest density\, high speed\, multicoax connector on the market! \nKey Takeaways from this Webinar: \n\nLearn about the benefits of high speed high density connectors that come in a variety of form factors.\nSolderless compression mount technology allows these connectors to be reused across multiple programs and boards promoting exponential cost savings.\nSuperior signal integrity offered through 20 GHz\, 40 GHz\, and 70 GHz configurations to suit your bandwidth requirements.
URL:https://ardentconcepts.com/event/introduction-to-tr-multicoax-series-webinar/2023-12-21/
LOCATION:Webinar
END:VEVENT
BEGIN:VEVENT
DTSTART;TZID=America/New_York:20231214T110000
DTEND;TZID=America/New_York:20231214T113000
DTSTAMP:20260421T213930
CREATED:20231113T182050Z
LAST-MODIFIED:20240103T144241Z
UID:10000291-1702551600-1702553400@ardentconcepts.com
SUMMARY:Introduction to SK Series Sockets Webinar
DESCRIPTION:Join us for a free 30 minute introduction to Ardent Concepts’ SK Family of Sockets. This webinar will cover some of the most important benefits of using Ardent Concepts’ unique SK Family of test socket solutions when designing and developing next generation electronics. \nWho should attend: \nEngineers looking to characterize and test high speed RF and digital transmission lines with the industry-leading performance of the Ardent SK Socket series solutions. \nPreface: \nEngineers involved in the design\, testing\, and manufacturing of high speed devices are generally focused on sockets that offer high performance at a reasonable cost. Learn how Ardent’s patented solderless contact technology\, which utilizes industry-leading alloys\, makes for a cost-effective and electrically robust socket solution! \nKey Benefits: \nBy attending the webinar you will: \n\nLearn how our industry-leading\, high-performance contact technology delivers superior signal integrity and allows for the rapid testing of multiple integrated circuits using a single socket\nSee how easy it is to install\, remove\, and reuse our sockets across multiple programs thanks to our solderless\, compression mount technology\nLearn about how our sockets can save you time and money throughout the design and test process
URL:https://ardentconcepts.com/event/introduction-to-sk-series-sockets-webinar-2/2023-12-14/2/
LOCATION:Webinar
END:VEVENT
BEGIN:VEVENT
DTSTART;TZID=America/New_York:20231214T080000
DTEND;TZID=America/New_York:20231214T170000
DTSTAMP:20260421T213930
CREATED:20231113T182050Z
LAST-MODIFIED:20240103T144241Z
UID:10000296-1702540800-1702573200@ardentconcepts.com
SUMMARY:Introduction to SK Series Sockets Webinar
DESCRIPTION:Join us for a free 30 minute introduction to Ardent Concepts’ SK Family of Sockets. This webinar will cover some of the most important benefits of using Ardent Concepts’ unique SK Family of test socket solutions when designing and developing next generation electronics. \nWho should attend: \nEngineers looking to characterize and test high speed RF and digital transmission lines with the industry-leading performance of the Ardent SK Socket series solutions. \nPreface: \nEngineers involved in the design\, testing\, and manufacturing of high speed devices are generally focused on sockets that offer high performance at a reasonable cost. Learn how Ardent’s patented solderless contact technology\, which utilizes industry-leading alloys\, makes for a cost-effective and electrically robust socket solution! \nKey Benefits: \nBy attending the webinar you will: \n\nLearn how our industry-leading\, high-performance contact technology delivers superior signal integrity and allows for the rapid testing of multiple integrated circuits using a single socket\nSee how easy it is to install\, remove\, and reuse our sockets across multiple programs thanks to our solderless\, compression mount technology\nLearn about how our sockets can save you time and money throughout the design and test process
URL:https://ardentconcepts.com/event/introduction-to-sk-series-sockets-webinar-2/2023-12-14/1/
LOCATION:Webinar
END:VEVENT
BEGIN:VEVENT
DTSTART;TZID=America/New_York:20231212T130000
DTEND;TZID=America/New_York:20231212T133000
DTSTAMP:20260421T213930
CREATED:20231130T210440Z
LAST-MODIFIED:20231130T210440Z
UID:10000294-1702386000-1702387800@ardentconcepts.com
SUMMARY:Modularity in RF Systems: An Overview of the O-Ring 50Ω Hermetic Feedthrough
DESCRIPTION:Explore the transformative potential of the O-Ring 50Ω Hermetic Feedthrough (oHFT) in our upcoming webinar focusing on applications where hermeticity is crucial to high-speed signal transmission. Amphenol Ardent Concepts is inviting you to attend a brief 30 minute webinar reviewing the many features and benefits provided by our oHFT. \nKey Takeaways: \n• Leak-Proof Reliability: Amphenol Ardent Concepts’ oHFT’s leak-proof design boasts an impressive max leak rate and a field replaceable o-ring for unparalleled reliability.\n• Spatial Efficiency: HFT is available in extremely dense form factors\, capable of accommodating 160+ channels in a standard ISO 100 flange\, optimizing spatial efficiency for diverse applications.\n• Scalable Design\, Excellent Signal Integrity: Learn about the quick\, simple integration between our feedthrough and TR Multicoax connectors and the impact our innovative design has on signal integrity in transitions from atmospheric to vacuum environments
URL:https://ardentconcepts.com/event/hermetic-feedthrough-3-of-3/
LOCATION:Webinar
END:VEVENT
BEGIN:VEVENT
DTSTART;TZID=America/New_York:20231207T130000
DTEND;TZID=America/New_York:20231207T133000
DTSTAMP:20260421T213930
CREATED:20231130T210136Z
LAST-MODIFIED:20231130T210136Z
UID:10000293-1701954000-1701955800@ardentconcepts.com
SUMMARY:Unlocking High-Density RF Systems: Introducing The Ultra Density 50Ω Hermetic Feedthrough
DESCRIPTION:Learn about the Ultra Density 50Ω Hermetic Feedthrough (UD-HFT) in this brief webinar. With its direct-to-flange design\, ability to fit 300+ channels in an ISO 100 flange\, and simple integration with our TR Multicoax connectors\, Amphenol Ardent Concepts’ UD-HFT is an ideal solution for scaling and optimizing RF signaling. \nKey Takeaways: \n• Leak-Proof Reliability: UD-HFT ensures a leak-proof design for dependable performance\n• Ultra-Dense Form Factor: Its direct-to-flange design accommodates an impressive 300+ channels in a standard ISO 100 flange\, optimizing space.\n• Efficient Connectivity: TR Multicoax assembly enables quick and secure connections\, backed by a robust interface ensuring signal integrity over 1000 mates/de-mates.
URL:https://ardentconcepts.com/event/hermetic-feedthrough-2-of-3/
LOCATION:Webinar
END:VEVENT
BEGIN:VEVENT
DTSTART;TZID=America/New_York:20231207T110000
DTEND;TZID=America/New_York:20231207T113000
DTSTAMP:20260421T213930
CREATED:20231026T192102Z
LAST-MODIFIED:20231113T180855Z
UID:10000162-1701946800-1701948600@ardentconcepts.com
SUMMARY:Introduction to TR Multicoax Series Webinar
DESCRIPTION:Join us for a free 30 minute introduction to our TR Multicoax Series where you will learn the key features and benefits of the highest density\, high speed\, multicoax connector on the market! \nKey Takeaways from this Webinar: \n\nLearn about the benefits of high speed high density connectors that come in a variety of form factors.\nSolderless compression mount technology allows these connectors to be reused across multiple programs and boards promoting exponential cost savings.\nSuperior signal integrity offered through 20 GHz\, 40 GHz\, and 70 GHz configurations to suit your bandwidth requirements.
URL:https://ardentconcepts.com/event/introduction-to-tr-multicoax-series-webinar/2023-12-07/
LOCATION:Webinar
END:VEVENT
BEGIN:VEVENT
DTSTART;TZID=America/New_York:20231205T130000
DTEND;TZID=America/New_York:20231205T133000
DTSTAMP:20260421T213930
CREATED:20231130T205755Z
LAST-MODIFIED:20231130T210217Z
UID:10000292-1701781200-1701783000@ardentconcepts.com
SUMMARY:Scaling and Optimizing RF Signaling: A Deep Dive into the 50Ω Hermetic Feedthrough
DESCRIPTION:Explore the transformative potential of the 50Ω Hermetic Feedthrough (HFT) in our upcoming webinar focusing on applications where hermeticity is crucial to high-speed signal transmission. Amphenol Ardent Concepts is inviting you to attend a brief 30 minute webinar reviewing the many features and benefits provided by our HFT. \nKey Takeaways: \n• Engineered Confidence: Discover how Amphenol Ardent Concepts’ 50Ω Hermetic Feedthrough ensures leak-proof reliability\, providing engineers with unmatched confidence in critical applications\n• Spatial Efficiency: HFT is available in extremely dense form factors\, capable of accommodating 160+ channels in a standard ISO 100 flange\, optimizing spatial efficiency for diverse applications.\n• Scalable Design\, Excellent Signal Integrity: Learn about the quick\, simple integration between our feedthrough and TR Multicoax connectors and the impact our innovative design has on signal integrity in transitions from atmospheric to vacuum environments
URL:https://ardentconcepts.com/event/hermetic-feedthrough-1-of-3/
LOCATION:Webinar
END:VEVENT
BEGIN:VEVENT
DTSTART;TZID=America/New_York:20231123T110000
DTEND;TZID=America/New_York:20231123T113000
DTSTAMP:20260421T213930
CREATED:20231026T192102Z
LAST-MODIFIED:20231113T180855Z
UID:10000001-1700737200-1700739000@ardentconcepts.com
SUMMARY:Introduction to TR Multicoax Series Webinar
DESCRIPTION:Join us for a free 30 minute introduction to our TR Multicoax Series where you will learn the key features and benefits of the highest density\, high speed\, multicoax connector on the market! \nKey Takeaways from this Webinar: \n\nLearn about the benefits of high speed high density connectors that come in a variety of form factors.\nSolderless compression mount technology allows these connectors to be reused across multiple programs and boards promoting exponential cost savings.\nSuperior signal integrity offered through 20 GHz\, 40 GHz\, and 70 GHz configurations to suit your bandwidth requirements.
URL:https://ardentconcepts.com/event/introduction-to-tr-multicoax-series-webinar/2023-11-23/
LOCATION:Webinar
END:VEVENT
BEGIN:VEVENT
DTSTART;TZID=America/New_York:20231116T110000
DTEND;TZID=America/New_York:20231116T113000
DTSTAMP:20260421T213930
CREATED:20231109T153852Z
LAST-MODIFIED:20231109T154314Z
UID:10000002-1700132400-1700134200@ardentconcepts.com
SUMMARY:Introduction to SK Series Sockets Webinar
DESCRIPTION:Join us for a free 30 minute introduction to Ardent Concepts’ SK Family of Sockets. This webinar will cover some of the most important benefits of using Ardent Concepts’ unique SK Family of test socket solutions when designing and developing next generation electronics. \nWho should attend: \nEngineers looking to characterize and test high speed RF and digital transmission lines with the industry-leading performance of the Ardent SK Socket series solutions. \nPreface: \nEngineers involved in the design\, testing\, and manufacturing of high speed devices are generally focused on sockets that offer high performance at a reasonable cost. Learn how Ardent’s patented solderless contact technology\, which utilizes industry-leading alloys\, makes for a cost-effective and electrically robust socket solution! \nKey Benefits: \nBy attending the webinar you will: \n\nLearn how our industry-leading\, high-performance contact technology delivers superior signal integrity and allows for the rapid testing of multiple integrated circuits using a single socket\nSee how easy it is to install\, remove\, and reuse our sockets across multiple programs thanks to our solderless\, compression mount technology\nLearn about how our sockets can save you time and money throughout the design and test process
URL:https://ardentconcepts.com/event/introduction-to-sk-series-sockets-webinar/
LOCATION:Webinar
END:VEVENT
END:VCALENDAR