BEGIN:VCALENDAR
VERSION:2.0
PRODID:-//Ardent Concepts - ECPv6.15.18//NONSGML v1.0//EN
CALSCALE:GREGORIAN
METHOD:PUBLISH
X-ORIGINAL-URL:https://ardentconcepts.com
X-WR-CALDESC:Events for Ardent Concepts
REFRESH-INTERVAL;VALUE=DURATION:PT1H
X-Robots-Tag:noindex
X-PUBLISHED-TTL:PT1H
BEGIN:VTIMEZONE
TZID:America/New_York
BEGIN:DAYLIGHT
TZOFFSETFROM:-0500
TZOFFSETTO:-0400
TZNAME:EDT
DTSTART:20250309T070000
END:DAYLIGHT
BEGIN:STANDARD
TZOFFSETFROM:-0400
TZOFFSETTO:-0500
TZNAME:EST
DTSTART:20251102T060000
END:STANDARD
BEGIN:DAYLIGHT
TZOFFSETFROM:-0500
TZOFFSETTO:-0400
TZNAME:EDT
DTSTART:20260308T070000
END:DAYLIGHT
BEGIN:STANDARD
TZOFFSETFROM:-0400
TZOFFSETTO:-0500
TZNAME:EST
DTSTART:20261101T060000
END:STANDARD
BEGIN:DAYLIGHT
TZOFFSETFROM:-0500
TZOFFSETTO:-0400
TZNAME:EDT
DTSTART:20270314T070000
END:DAYLIGHT
BEGIN:STANDARD
TZOFFSETFROM:-0400
TZOFFSETTO:-0500
TZNAME:EST
DTSTART:20271107T060000
END:STANDARD
END:VTIMEZONE
BEGIN:VEVENT
DTSTART;TZID=America/New_York:20260716T110000
DTEND;TZID=America/New_York:20260716T113000
DTSTAMP:20260421T204818
CREATED:20251212T180651Z
LAST-MODIFIED:20251216T171717Z
UID:10000672-1784199600-1784201400@ardentconcepts.com
SUMMARY:Introduction to CA Series Connectors and Interposers Webinar
DESCRIPTION:Join us for a free 30 minute introduction to our CA Series where you will learn the key features and benefits of the highest density\, high speed\, connectors and interposers on the market! \nKey Takeaways from this Webinar: \n\nLearn about the benefits of high speed high density connectors and the variety of scalable form factors Amphenol Ardent offers\nSolderless compression mount technology allows these connectors to be reused across multiple programs and boards promoting exponential cost savings\nHow our CA Series connectors and interposers offer superior signal integrity and high density for applications like high speed backplane\, mezzanine\, edge card\, and optical at a 0.4 mm pitch in a pure vertical interface – no offset required.
URL:https://ardentconcepts.com/event/introduction-to-ca-series-connectors-and-interposers-webinar/2026-07-16/
LOCATION:Webinar
ATTACH;FMTTYPE=image/png:https://ardentconcepts.com/wp-content/webpc-passthru.php?src=https://ardentconcepts.com/wp-content/uploads/2023/10/4.png&amp;nocache=1
END:VEVENT
END:VCALENDAR