BEGIN:VCALENDAR
VERSION:2.0
PRODID:-//Ardent Concepts - ECPv6.15.18//NONSGML v1.0//EN
CALSCALE:GREGORIAN
METHOD:PUBLISH
X-WR-CALNAME:Ardent Concepts
X-ORIGINAL-URL:https://ardentconcepts.com
X-WR-CALDESC:Events for Ardent Concepts
REFRESH-INTERVAL;VALUE=DURATION:PT1H
X-Robots-Tag:noindex
X-PUBLISHED-TTL:PT1H
BEGIN:VTIMEZONE
TZID:America/New_York
BEGIN:DAYLIGHT
TZOFFSETFROM:-0500
TZOFFSETTO:-0400
TZNAME:EDT
DTSTART:20240310T070000
END:DAYLIGHT
BEGIN:STANDARD
TZOFFSETFROM:-0400
TZOFFSETTO:-0500
TZNAME:EST
DTSTART:20241103T060000
END:STANDARD
BEGIN:DAYLIGHT
TZOFFSETFROM:-0500
TZOFFSETTO:-0400
TZNAME:EDT
DTSTART:20250309T070000
END:DAYLIGHT
BEGIN:STANDARD
TZOFFSETFROM:-0400
TZOFFSETTO:-0500
TZNAME:EST
DTSTART:20251102T060000
END:STANDARD
BEGIN:DAYLIGHT
TZOFFSETFROM:-0500
TZOFFSETTO:-0400
TZNAME:EDT
DTSTART:20260308T070000
END:DAYLIGHT
BEGIN:STANDARD
TZOFFSETFROM:-0400
TZOFFSETTO:-0500
TZNAME:EST
DTSTART:20261101T060000
END:STANDARD
END:VTIMEZONE
BEGIN:VEVENT
DTSTART;TZID=America/New_York:20251218T110000
DTEND;TZID=America/New_York:20251218T113000
DTSTAMP:20260421T173744
CREATED:20251212T180959Z
LAST-MODIFIED:20251212T180959Z
UID:10000215-1766055600-1766057400@ardentconcepts.com
SUMMARY:Introduction to TR Multicoax Series Webinar
DESCRIPTION:Join us for a free 30 minute introduction to our TR Multicoax Series where you will learn the key features and benefits of the highest density\, high speed\, multicoax connector on the market! \nKey Takeaways from this Webinar: \n\nLearn about the benefits of high speed high density connectors that come in a variety of form factors.\nSolderless compression mount technology allows these connectors to be reused across multiple programs and boards promoting exponential cost savings.\nSuperior signal integrity offered through 20 GHz\, 40 GHz\, and 70 GHz configurations to suit your bandwidth requirements.
URL:https://ardentconcepts.com/event/introduction-to-tr-multicoax-series-webinar-2-2/2025-12-18/
LOCATION:Webinar
END:VEVENT
END:VCALENDAR