BEGIN:VCALENDAR
VERSION:2.0
PRODID:-//Ardent Concepts - ECPv6.15.18//NONSGML v1.0//EN
CALSCALE:GREGORIAN
METHOD:PUBLISH
X-ORIGINAL-URL:https://ardentconcepts.com
X-WR-CALDESC:Events for Ardent Concepts
REFRESH-INTERVAL;VALUE=DURATION:PT1H
X-Robots-Tag:noindex
X-PUBLISHED-TTL:PT1H
BEGIN:VTIMEZONE
TZID:America/New_York
BEGIN:DAYLIGHT
TZOFFSETFROM:-0500
TZOFFSETTO:-0400
TZNAME:EDT
DTSTART:20240310T070000
END:DAYLIGHT
BEGIN:STANDARD
TZOFFSETFROM:-0400
TZOFFSETTO:-0500
TZNAME:EST
DTSTART:20241103T060000
END:STANDARD
BEGIN:DAYLIGHT
TZOFFSETFROM:-0500
TZOFFSETTO:-0400
TZNAME:EDT
DTSTART:20250309T070000
END:DAYLIGHT
BEGIN:STANDARD
TZOFFSETFROM:-0400
TZOFFSETTO:-0500
TZNAME:EST
DTSTART:20251102T060000
END:STANDARD
BEGIN:DAYLIGHT
TZOFFSETFROM:-0500
TZOFFSETTO:-0400
TZNAME:EDT
DTSTART:20260308T070000
END:DAYLIGHT
BEGIN:STANDARD
TZOFFSETFROM:-0400
TZOFFSETTO:-0500
TZNAME:EST
DTSTART:20261101T060000
END:STANDARD
END:VTIMEZONE
BEGIN:VEVENT
DTSTART;TZID=America/New_York:20250701T130000
DTEND;TZID=America/New_York:20250701T133000
DTSTAMP:20260422T104312
CREATED:20250617T154153Z
LAST-MODIFIED:20250617T154850Z
UID:10000571-1751374800-1751376600@ardentconcepts.com
SUMMARY:Transition to Solderless Interposers: Enhancing Quantum Processor Connections with Amphenol Ardent Concepts’ CA™ and SK™ Series
DESCRIPTION:We invite you to attend our webinar: “Transition to Solderless Interposers: Enhancing Quantum Processor Connections with Amphenol Ardent Concepts’ CA™ and SK™ Series Connectors.” Discover how the latest advancements in interposer technology are revolutionizing quantum computing. We will discuss the benefits provided by true solderless connectivity\, eliminating wire bonds and indium bumps\, and enabling high-density pin configurations. Driven by our ongoing commitment to exceptional signal integrity\, Amphenol Ardent Concepts offers cutting-edge materials and design optimizations that support functional compatibility with cryogenic conditions. Explore the potential for customized solutions tailored to meet the specific needs of your quantum computing application. \nKey Takeaways: \n\nSolderless Connectivity & Component Conservation: Simplifies assembly and enables the reuse of components\, reducing costs and waste.\nMaterial Advancements: Utilizes advanced\, low-outgassing\, and cryogenically suitable materials to enhance performance and reliability.\nOptimized Contact Properties & Customization: Our low-resistance contacts deliver excellent signal integrity across a range of applications and we offer flexible design solutions tailored to suit your needs. Custom plating options are available for environments sensitive to magnetism.\n\nPlease register using the link in the Details section below:
URL:https://ardentconcepts.com/event/transition-to-solderless-interposers-enhancing-quantum-processor-connections-with-amphenol-ardent-concepts-ca-and-sk-series-2/
LOCATION:Webinar
ATTACH;FMTTYPE=image/png:https://ardentconcepts.com/wp-content/webpc-passthru.php?src=https://ardentconcepts.com/wp-content/uploads/2024/11/Screenshot-2024-11-20-122140.png&amp;nocache=1
END:VEVENT
END:VCALENDAR